BEGIN:VCALENDAR
VERSION:2.0
PRODID:-//Tukios.com/
BEGIN:VEVENT
UID:69674d5a-81f9-40b7-bd39-aa6f632afca1@www.wrightfuneralhomeandcrematory.com
DTSTAMP:20260425T001426Z
DTSTART:20260426T190000Z
DTEND:20260426T200000Z
SUMMARY:Visitation
DESCRIPTION:
URL:https://www.wrightfuneralhomeandcrematory.com/obituaries/riley-epley
LOCATION: 15579 US-431  Headland AL 36345
GEO:31.3676996;-85.3260755
END:VEVENT
END:VCALENDAR